BEGIN:VCALENDAR
VERSION:2.0
PRODID:-//VAC 2020 - ECPv4.7.3//NONSGML v1.0//EN
CALSCALE:GREGORIAN
METHOD:PUBLISH
X-WR-CALNAME:VAC 2020
X-ORIGINAL-URL:https://2020.veraoarte.com.br
X-WR-CALDESC:Eventos para VAC 2020
BEGIN:VEVENT
DTSTART;VALUE=DATE:20200126
DTEND;VALUE=DATE:20200127
DTSTAMP:20260423T143740
CREATED:20200109T014258Z
LAST-MODIFIED:20200117T231329Z
UID:3923-1579996800-1580083199@2020.veraoarte.com.br
SUMMARY:Yônika
DESCRIPTION:SINOPSE: Yônika reúne oito artistas em torno da linguagem de improvisação musical com senhas. Os elementos da bagagem criativa de cada musicista trazem os ritmos afro latinos em fusão com o universo da música eletrônica.Música do acaso\, essência do tambor\, beat mântrico sintetizado. A premissa: fazer o público dançar.  \n  \n \nFotos: Tamás Bodolay \n  \nFICHA TÉCNICA: \nMusicistas: Bia Nogueira\, Chaya Vazquez\, DJ Black Josie\, Débora Costa \, Hadassa Amaral\, Isabela Leite\, Natália Mitre\, Samantha Rennó.  \nDireção Geral: Chaya Vazquez e Isabela Leite. \nDireção Musical: Chaya Vazquez. \nAgenciamento: Laura Lopes. \n  \nInstagram: instagram.com/yonikaoficial \n
URL:https://2020.veraoarte.com.br/evento/yonika/
LOCATION:Teatro Francisco Nunes\, Av. Afonso Pena\, 1321 (Parque Municipal) - Centro\, Belo Horizonte\, Minas Gerais\, Brasil
CATEGORIES:Música
ATTACH;FMTTYPE=image/jpeg:https://2020.veraoarte.com.br/wp-content/uploads/2020/01/Banda-Yonika-Cred.-Tamas-Bodolay-1.jpg
END:VEVENT
END:VCALENDAR