BEGIN:VCALENDAR
VERSION:2.0
PRODID:-//VAC 2020 - ECPv4.7.3//NONSGML v1.0//EN
CALSCALE:GREGORIAN
METHOD:PUBLISH
X-WR-CALNAME:VAC 2020
X-ORIGINAL-URL:https://2020.veraoarte.com.br
X-WR-CALDESC:Eventos para VAC 2020
BEGIN:VEVENT
DTSTART;VALUE=DATE:20200125
DTEND;VALUE=DATE:20200126
DTSTAMP:20260423T160113
CREATED:20200109T014122Z
LAST-MODIFIED:20200117T231729Z
UID:3921-1579910400-1579996799@2020.veraoarte.com.br
SUMMARY:Lançamento do CD Negro Amor • Heberte Almeida
DESCRIPTION:SINOPSE: Negro Amor evidência corpos negros em narrativas de afeto\, afirmação e resistência. Em seu primeiro lançamento solo\, Heberte Almeida compila suas variadas referências musicais\, como o samba soul\, afoxé\, axé\, rap\, soul\, samba e arrocha em uma coleção de onze canções\, apresentando uma sonoridade solar\, diversa em timbres\, vozes e bases rítmicas. \n  \n \nFoto: Deise Oliveira \n  \n \nFoto: Deise Oliveira \n  \n \nFoto: Heberte Almeida \n  \n \nFoto: Deise Oliveira \n  \n \nFoto: Deise Oliveira \n  \nFICHA TÉCNICA: Heberte Almeida – voz\, guitarra\, violão e teclado; Raíssa Uchôa – baixo; Pablo Campos – bateria; Kim Gomes – guitarra; Manu Ranilla e Leonardo Alves – percussões; Richard Neves e Danilo Derick – teclados; Jhonata Max – trombone; Pacífico Júnior – trompete; Anna Lages\, Ana Carol\, Vi Coelho\, Tamara Franklin\, Shabê\, Robert Frank e Gabriel Martins – vozes; Zi Reis e Renato Negrão – performances poéticas. Autoria e arranjos: Heberte Almeida. Direção do show: Gabriel Martins. Direção de arte e figurino: Rimena Procópio. Produção e gestão: Coratio Produções (Michelle Braga) \n  \nSite: www.negroamor.com.br (em construção) \nFacebook: www.facebook.com/hebertenegroamor \nInstagram: www.instagram.com/negro.amor \n
URL:https://2020.veraoarte.com.br/evento/lancamento-do-cd-negro-amor-%e2%80%a2-heberte-almeida/
LOCATION:Teatro Francisco Nunes\, Av. Afonso Pena\, 1321 (Parque Municipal) - Centro\, Belo Horizonte\, Minas Gerais\, Brasil
CATEGORIES:Música
ATTACH;FMTTYPE=image/jpeg:https://2020.veraoarte.com.br/wp-content/uploads/2020/01/Heberte-Almeida-03-Foto-por-Deise-Oliveira.jpg
END:VEVENT
END:VCALENDAR